BEGIN:VCALENDAR
VERSION:2.0
PRODID:icalendar-ruby
CALSCALE:GREGORIAN
METHOD:PUBLISH
BEGIN:VEVENT
DTSTAMP:20260420T195331Z
UID:68-1226791@ccpahrump.com
DTSTART:20261011T164500Z
DTEND:20261011T174500Z
CLASS:PUBLIC
CREATED:20260420T122100
DESCRIPTION:2nd Service
LAST-MODIFIED:20260420T122100
LOCATION:
SUMMARY:2nd Service
URL;VALUE=URI:https://ccpahrump.com/events/2nd-service/2026-10-11
END:VEVENT
END:VCALENDAR
