BEGIN:VCALENDAR
VERSION:2.0
PRODID:icalendar-ruby
CALSCALE:GREGORIAN
METHOD:PUBLISH
BEGIN:VEVENT
DTSTAMP:20260420T211113Z
UID:68-1226792@ccpahrump.com
DTSTART:20261018T164500Z
DTEND:20261018T174500Z
CLASS:PUBLIC
CREATED:20260420T122100
DESCRIPTION:2nd Service
LAST-MODIFIED:20260420T122100
LOCATION:
SUMMARY:2nd Service
URL;VALUE=URI:https://ccpahrump.com/events/2nd-service/2026-10-18
END:VEVENT
END:VCALENDAR
