BEGIN:VCALENDAR
VERSION:2.0
PRODID:icalendar-ruby
CALSCALE:GREGORIAN
METHOD:PUBLISH
BEGIN:VEVENT
DTSTAMP:20260420T224311Z
UID:68-1227571@ccpahrump.com
DTSTART:20261025T164500Z
DTEND:20261025T174500Z
CLASS:PUBLIC
CREATED:20260420T145658
DESCRIPTION:2nd Service
LAST-MODIFIED:20260420T145658
LOCATION:
SUMMARY:2nd Service
URL;VALUE=URI:https://ccpahrump.com/events/2nd-service/2026-10-25
END:VEVENT
END:VCALENDAR
