BEGIN:VCALENDAR
VERSION:2.0
PRODID:icalendar-ruby
CALSCALE:GREGORIAN
METHOD:PUBLISH
BEGIN:VEVENT
DTSTAMP:20260421T001227Z
UID:68-1227572@ccpahrump.com
DTSTART:20261101T174500Z
DTEND:20261101T184500Z
CLASS:PUBLIC
CREATED:20260420T145658
DESCRIPTION:2nd Service
LAST-MODIFIED:20260420T145658
LOCATION:
SUMMARY:2nd Service
URL;VALUE=URI:https://ccpahrump.com/events/2nd-service/2026-11-01
END:VEVENT
END:VCALENDAR
