BEGIN:VCALENDAR
VERSION:2.0
PRODID:icalendar-ruby
CALSCALE:GREGORIAN
METHOD:PUBLISH
BEGIN:VEVENT
DTSTAMP:20260424T025432Z
UID:69-1242679@ccpahrump.com
DTSTART:20260927T183000Z
DTEND:20260927T193000Z
CLASS:PUBLIC
CREATED:20260423T192238
DESCRIPTION:3rd Service
LAST-MODIFIED:20260423T192238
LOCATION:
SUMMARY:3rd Service
URL;VALUE=URI:https://ccpahrump.com/events/3rd-service/2026-09-27
END:VEVENT
END:VCALENDAR
