BEGIN:VCALENDAR
VERSION:2.0
PRODID:icalendar-ruby
CALSCALE:GREGORIAN
METHOD:PUBLISH
BEGIN:VEVENT
DTSTAMP:20260424T040822Z
UID:69-1242680@ccpahrump.com
DTSTART:20261004T183000Z
DTEND:20261004T193000Z
CLASS:PUBLIC
CREATED:20260423T192238
DESCRIPTION:3rd Service
LAST-MODIFIED:20260423T192238
LOCATION:
SUMMARY:3rd Service
URL;VALUE=URI:https://ccpahrump.com/events/3rd-service/2026-10-04
END:VEVENT
END:VCALENDAR
