BEGIN:VCALENDAR
VERSION:2.0
PRODID:icalendar-ruby
CALSCALE:GREGORIAN
METHOD:PUBLISH
BEGIN:VEVENT
DTSTAMP:20260424T052735Z
UID:91-1240266@ccpahrump.com
DTSTART:20260520T003000Z
DTEND:20260520T020000Z
CLASS:PUBLIC
CREATED:20260423T104711
DESCRIPTION:
LAST-MODIFIED:20260423T104711
LOCATION:4860 E Pawnee Place\, 89048
SUMMARY:Brian Jacobs Life Group
URL;VALUE=URI:https://ccpahrump.com/events/brian-jacobs-life-group/2026-05-
 19
END:VEVENT
END:VCALENDAR
