BEGIN:VCALENDAR
VERSION:2.0
PRODID:icalendar-ruby
CALSCALE:GREGORIAN
METHOD:PUBLISH
BEGIN:VEVENT
DTSTAMP:20260424T075319Z
UID:91-1240268@ccpahrump.com
DTSTART:20260603T003000Z
DTEND:20260603T020000Z
CLASS:PUBLIC
CREATED:20260423T104711
DESCRIPTION:
LAST-MODIFIED:20260423T104711
LOCATION:4860 E Pawnee Place\, 89048
SUMMARY:Brian Jacobs Life Group
URL;VALUE=URI:https://ccpahrump.com/events/brian-jacobs-life-group/2026-06-
 02
END:VEVENT
END:VCALENDAR
