BEGIN:VCALENDAR
VERSION:2.0
PRODID:icalendar-ruby
CALSCALE:GREGORIAN
METHOD:PUBLISH
BEGIN:VEVENT
DTSTAMP:20260424T090159Z
UID:88-1240434@ccpahrump.com
DTSTART:20260611T013000Z
DTEND:20260611T030000Z
CLASS:PUBLIC
CREATED:20260423T130542
DESCRIPTION:
LAST-MODIFIED:20260423T130542
LOCATION:
SUMMARY:Dave Clasen Life Group
URL;VALUE=URI:https://ccpahrump.com/events/dave-clasen-life-group/2026-06-1
 0
END:VEVENT
END:VCALENDAR
