BEGIN:VCALENDAR
VERSION:2.0
PRODID:icalendar-ruby
CALSCALE:GREGORIAN
METHOD:PUBLISH
BEGIN:VEVENT
DTSTAMP:20260424T004153Z
UID:90-1240404@ccpahrump.com
DTSTART:20260501T000000Z
DTEND:20260501T013000Z
CLASS:PUBLIC
CREATED:20260423T130528
DESCRIPTION:
LAST-MODIFIED:20260423T130528
LOCATION:2381 Washoe Ave Pahrump\, NV 89048
SUMMARY:Jim McDonald and Mike Doeller Life Group
URL;VALUE=URI:https://ccpahrump.com/events/jim-mcdonald-and-mike-doeller-li
 fe-group/2026-04-30
END:VEVENT
END:VCALENDAR
