BEGIN:VCALENDAR
VERSION:2.0
PRODID:icalendar-ruby
CALSCALE:GREGORIAN
METHOD:PUBLISH
BEGIN:VEVENT
DTSTAMP:20260423T221637Z
UID:93-1240288@ccpahrump.com
DTSTART:20260430T163000Z
DTEND:20260430T180000Z
CLASS:PUBLIC
CREATED:20260423T104731
DESCRIPTION:
LAST-MODIFIED:20260423T104731
LOCATION:
SUMMARY:Marilyn Kish Life Group
URL;VALUE=URI:https://ccpahrump.com/events/marilyn-kish-life-group/2026-04-
 30
END:VEVENT
END:VCALENDAR
