BEGIN:VCALENDAR
VERSION:2.0
PRODID:icalendar-ruby
CALSCALE:GREGORIAN
METHOD:PUBLISH
BEGIN:VEVENT
DTSTAMP:20260423T232600Z
UID:93-1240289@ccpahrump.com
DTSTART:20260507T163000Z
DTEND:20260507T180000Z
CLASS:PUBLIC
CREATED:20260423T104731
DESCRIPTION:
LAST-MODIFIED:20260423T104731
LOCATION:
SUMMARY:Marilyn Kish Life Group
URL;VALUE=URI:https://ccpahrump.com/events/marilyn-kish-life-group/2026-05-
 07
END:VEVENT
END:VCALENDAR
