BEGIN:VCALENDAR
VERSION:2.0
PRODID:icalendar-ruby
CALSCALE:GREGORIAN
METHOD:PUBLISH
BEGIN:VEVENT
DTSTAMP:20260423T222202Z
UID:76-1240322@ccpahrump.com
DTSTART:20261226T020000Z
DTEND:20261226T043000Z
CLASS:PUBLIC
CREATED:20260423T105353
DESCRIPTION:Join us at the Ministry House\, right next to the church!\nCome
  fellowship\, worship\, and hear a teaching led by one of our young adults
 ! We start at 6:00 pm for pot-luck style dinner followed by a lesson that 
 starts at 6:30!\nIf you have any questions\, you can talk to Ruben Valerio
  or send an email to renewal@ccpahrump.com\nLooking forward to seeing you 
 there!
LAST-MODIFIED:20260423T105353
LOCATION:Ministry House  
SUMMARY:Renewal Young Adults
URL;VALUE=URI:https://ccpahrump.com/events/renewal-young-adults/2026-12-25
ATTACH;FILENAME=1.png;FMTTYPE=image/png:https://dq5pwpg1q8ru0.cloudfront.ne
 t/2025/06/30/18/44/40/97889c9f-0650-4e68-8cd8-c9ec1b67c065/1.png
END:VEVENT
END:VCALENDAR
